BEGIN:VCALENDAR
PRODID:easyVerein Vereinsverwaltung
VERSION:2.0
BEGIN:VEVENT
SUMMARY:Sauerkraut in der Mühle mit unseren Gästen aus Bruges
DTSTART;TZID=Europe/Berlin:20261203T190000
DTEND;TZID=Europe/Berlin:20261203T220000
DTSTAMP:20260420T040642Z
UID:207ca9e8-1771-4833-bc9a-b5f762e191c3
CLASSIFICATION:Events
DESCRIPTION:nur begrenzte Anzahl von Teilnehmern\n\n
X-ALT-DESC;FMTTYPE=text/html:<p>nur begrenzte Anzahl von Teilnehmern</p>
LOCATION:Gustav-Danzeisen-Stube\, Schlossmühle
URL:https://easyverein.com/public/Muehle/calendar/423870360
END:VEVENT
END:VCALENDAR