BEGIN:VCALENDAR
PRODID:easyVerein Vereinsverwaltung
VERSION:2.0
BEGIN:VEVENT
SUMMARY:Hauptversammlung
DTSTART;TZID=Europe/Berlin:20260424T190000
DTEND;TZID=Europe/Berlin:20260424T210000
DTSTAMP:20260419T135306Z
UID:3c455981-a8dd-49b2-9f85-0c386a6f2917
CLASSIFICATION:Veranstaltungskalender
DESCRIPTION:Jahreshauptversammlung 2026\n\n
X-ALT-DESC;FMTTYPE=text/html:<p>Jahreshauptversammlung 2026</p>
LOCATION:Landgasthof Ochsen
URL:https://easyverein.com/public/TBL1905/calendar/382020039
END:VEVENT
END:VCALENDAR