BEGIN:VCALENDAR
PRODID:easyVerein Vereinsverwaltung
VERSION:2.0
BEGIN:VEVENT
SUMMARY:SG Johannesberg Hausturnier
DTSTART;TZID=Europe/Berlin:20260501T183000
DTEND;TZID=Europe/Berlin:20260501T193000
DTSTAMP:20260420T014701Z
UID:a0f77995c54956b6d406
CLASSIFICATION:Turniere
DESCRIPTION:**🎱 Einladung zum Billardturnier der SG Johannesberg 🎱**  \n**Für Freunde, Gäste und Mitglieder – Fortgeschrittene & Profis**\n\nLiebe Billardfreunde,  \nwir laden euch herzlich zu unserem nächsten Billardturnier ein! Gespielt wird auf hohem Niveau – im Vordergrund stehen sportlicher Ehrgeiz, anspruchsvolle Partien und der Austausch unter ambitionierten Spielern.\n\n🗓 **Datum:** jeden 1. Freitag im Monat  \n📍 **Ort:** Vereinsheim der SG Johannesberg  \n👥 **Teilnehmerzahl:** max. 32 Spieler  \n🎯 **Level:** Fortgeschrittene & Profis  \n🎖 **Modus:** Gruppenphase + KO-Runde (je nach Teilnehmerzahl)\n\n**Hinweis:** Die Turnierleitung behält sich vor, Spieler nicht zuzulassen – insbesondere zur Sicherstellung eines leistungsgerechten Teilnehmerfeldes.\n\n**Anmeldung:** Bitte per E-Mail an [bitte E-Mail einfügen] oder direkt im Vereinsheim.  \n**Anmeldeschluss:** [Datum einfügen]\n\nPackt euren Queue ein und zeigt, was ihr draufhabt – wir freuen uns auf spannende Duelle und starke Leistungen!\n\n**SG Johannesberg – Abteilung Poolbillard**\n\n
X-ALT-DESC;FMTTYPE=text/html:<p><strong>🎱 Einladung zum Billardturnier der SG Johannesberg 🎱</strong><br><strong>Für Freunde, Gäste und Mitglieder – Fortgeschrittene &amp; Profis</strong></p><p>Liebe Billardfreunde,<br>wir laden euch herzlich zu unserem nächsten Billardturnier ein! Gespielt wird auf hohem Niveau – im Vordergrund stehen sportlicher Ehrgeiz, anspruchsvolle Partien und der Austausch unter ambitionierten Spielern.</p><p>🗓 <strong>Datum:</strong> jeden 1. Freitag im Monat<br>📍 <strong>Ort:</strong> Vereinsheim der SG Johannesberg<br>👥 <strong>Teilnehmerzahl:</strong> max. 32 Spieler<br>🎯 <strong>Level:</strong> Fortgeschrittene &amp; Profis<br>🎖 <strong>Modus:</strong> Gruppenphase + KO-Runde (je nach Teilnehmerzahl)</p><p><strong>Hinweis:</strong> Die Turnierleitung behält sich vor, Spieler nicht zuzulassen – insbesondere zur Sicherstellung eines leistungsgerechten Teilnehmerfeldes.</p><p><strong>Anmeldung:</strong> Bitte per E-Mail an [bitte E-Mail einfügen] oder direkt im Vereinsheim.<br><strong>Anmeldeschluss:</strong> [Datum einfügen]</p><p>Packt euren Queue ein und zeigt, was ihr draufhabt – wir freuen uns auf spannende Duelle und starke Leistungen!</p><p><strong>SG Johannesberg – Abteilung Poolbillard</strong></p>
LOCATION:SG Johannesberg
URL:https://easyverein.com/public/SGJ/calendar/276319262
END:VEVENT
END:VCALENDAR