BEGIN:VCALENDAR
PRODID:easyVerein Vereinsverwaltung
VERSION:2.0
BEGIN:VEVENT
SUMMARY:Sommerferienprogramm mit dem Jugendzentrum - Pizza aus dem Holzofe
 n in der Mühle
DTSTART;TZID=Europe/Berlin:20260821T100000
DTEND;TZID=Europe/Berlin:20260821T170000
DTSTAMP:20260420T040835Z
UID:d961735c-1b4b-4660-bf44-65123d6cb760
CLASSIFICATION:Events
DESCRIPTION:Im Rahmen des Sommerferienprogramms vom Jugendzentrum Umkirch backen wir Pizza im Holzofen.\n\n- Anmeldung Vereinsmitglieder über easyVerein bis spätestens drei Tage vor der Veranstaltung -\n\n- Anmeldung Jugendliche über das Ferienprogramm -\n\n
X-ALT-DESC;FMTTYPE=text/html:<p>Im Rahmen des Sommerferienprogramms vom Jugendzentrum Umkirch backen wir Pizza im Holzofen.</p><p>- Anmeldung Vereinsmitglieder über easyVerein bis spätestens drei Tage vor der Veranstaltung -</p><p>- Anmeldung Jugendliche über das Ferienprogramm -<i></i></p>
LOCATION:Gustav-Danzeisen-Stube\, Schlossmühle
URL:https://easyverein.com/public/Muehle/calendar/430278330
END:VEVENT
END:VCALENDAR